Workbook

Sheet 様式7証明書(3号)
C1: 様式７
C2: 津島市長 殿
C4: 価値（価格）の過半が津島市内で生じていることに関する証明書
H6: 商号又は名称 | I6: ='様式8計算書(3号)'!$L$6 -> 0
C8: =" "&IF('様式8計算書(3号)'!$E$9="","＿＿＿＿＿＿＿＿＿＿＿＿＿＿＿＿＿＿＿＿＿＿＿",'様式8計算書(3号)'!$E$9)&"については、津島市の区域内における工程により、当該返礼品等の価値の"&IF('様式8計算書(3号)'!$J$13="","＿＿＿％",DBCS(TEXT('様式8計算書(3号)'!$J$13,"0%")))&"が生じていることを証明します。"&CHAR(10)&" 上記については、以下の算出方法（該当する算出方法に☑）により算出しています。 " -> ＿＿＿＿＿＿＿＿＿＿＿＿＿＿＿＿＿＿＿＿＿＿＿については、津島市の区域内における工程により、当該返礼品等の価値の＿＿＿％が生じていることを証明します。 上記については、以下の算出方法（該当する算出方法に☑）により算出しています。
D12: 総務大臣が定める標準的な算出方法
D13: ※標準的な算出方法における算出基礎は以下のとおり。
D14: Ａ： | E14: 当該地方団体による返礼品等の調達費用 | I14: =IF('様式8計算書(3号)'!$E$12="","円",DBCS(TEXT('様式8計算書(3号)'!$E$12,"###,0円"))) -> 円
D15: Ｂ： | E15: 当該返礼品等の製造・販売等のために当該地方団体の区域外で生じた費用
I16: =IFERROR(IF('様式8計算書(3号)'!$E$12-'様式8計算書(3号)'!$I$13=0,"円",DBCS(TEXT('様式8計算書(3号)'!$E$12-'様式8計算書(3号)'!$I$13,"###,0円"))),"円") -> 円
D18: その他の算出方法
D19: ※その他の算出方法とする理由及びその算出方法の詳細は以下のとおり。
C26: =" また、当該返礼品等の製造・加工地 ※１ は"&IF($L$27="","＿＿＿＿＿＿＿＿＿＿＿＿",$L$27)&"であり、"&CHAR(10)&"一般販売価格は"&IF('様式8計算書(3号)'!$K$13="","＿＿＿＿＿＿＿＿＿＿＿＿円",DBCS(TEXT('様式8計算書(3号)'!$K$13,"#,##＃円")))&"です。※２" -> また、当該返礼品等の製造・加工地 ※１ は愛知県津島市であり、 一般販売価格は＿＿＿＿＿＿＿＿＿＿＿＿円です。※２ | L26: ↓入力欄 | M26: （地方団体名又は国名）
K27: 製造・加工地 | L27: 愛知県津島市 | M27: 例：○○県○○市、××国
C29: なお、当該返礼品等を取り扱うに当たって、下記の事項に同意します。
C30: ・ | D30: 当該返礼品等については、地場産品基準（平成 31 年総務省告示第 179 号第５条）第８号イ～ハの返礼品等として提出先以外の都道府県又は市区町村が取り扱う場合を除き、本証明書の提出先以外の都道府県又は市区町村の第３号の返礼品等として取り扱わないこと。
C33: ・ | D33: 当該返礼品等の付加価値の算出方法等について、地方団体の求めに応じ、必要な説明や資料提供等を行うこと。
C35: 記載要領
C36: ※１ | D36: 返礼品等の製造・加工が行われた場所について、国内の場合は都道府県名及び市区町村名（例：○○県○○市）、国外の場合は国名を記載すること。
C38: ※２ | D38: 当該返礼品等を一般消費者に対して販売する際の通常の価格を記載すること。なお、当該返礼品等が非売品である場合には、当該返礼品等の類似製品に係る通常の価格を記載すること。

Sheet 様式8計算書(3号)
B1: 様式８ | M1: 令和 年 月 日
D2: 価値（価格）の過半が津島市内で生じていることに関する計算書（地場産品基準３号）
C3: （宛先）津島市長
J4: （提出者）
J5: 所在地
J6: 商号又は名称
J7: 代表者（役職・氏名）
C9: 商品名 | I9: 製品の価値（価格）の過半が津島市内で生じています。
C10: 担当者名 | I10: ウェブサイトでの公表に同意します。
C11: 連絡先 | I11: 津島市内における付加価値 | K11: 一般販売価格(税抜)
C12: 商品価格（税抜） | G12: 円 | I12: 価格(税抜) | J12: 割合
C13: 商品価格（税込） | G13: 円 | I13: =J19+J21+J23+J25 -> 0 | J13: =IFERROR((J19+J21+J23+J25)/E12,"")
C16: 製造工程 | E16: 津島市内外 | F16: 内容 | H16: 製造地・加工場所 | J16: 付加価値 | L16: 備考
J18: 工程から生じる 付加価値(価格) (税抜) | K18: 割合
B19: ① | E19: 市内 | K19: =IFERROR(IF(OR(J19="",J19=0),"％",J19/$E$12),0) -> ％
E20: 市外 | K20: =IFERROR(IF(OR(J20="",J20=0),"％",J20/$E$12),0) -> ％
B21: ② | E21: 市内 | K21: =IFERROR(IF(OR(J21="",J21=0),"％",J21/$E$12),0) -> ％
E22: 市外 | K22: =IFERROR(IF(OR(J22="",J22=0),"％",J22/$E$12),0) -> ％
B23: ③ | E23: 市内 | K23: =IFERROR(IF(OR(J23="",J23=0),"％",J23/$E$12),0) -> ％
E24: 市外 | K24: =IFERROR(IF(OR(J24="",J24=0),"％",J24/$E$12),0) -> ％
B25: ④ | E25: 市内 | K25: =IFERROR(IF(OR(J25="",J25=0),"％",J25/$E$12),0) -> ％
E26: 市外 | K26: =IFERROR(IF(OR(J26="",J26=0),"％",J26/$E$12),0) -> ％
H27: 合計 | J27: =IF(SUM(J19:J26)=0,"円",SUM(J19:J26)) -> 円 | K27: =IF($E$12="","％",SUM(K19:K26)) -> ％

Sheet 【記載例】様式7証明書3号(おまんじゅう)
B1: ='様式7証明書(3号)'!C1 -> 様式７
B2: ='様式7証明書(3号)'!C2 -> 津島市長 殿
B4: ='様式7証明書(3号)'!$C$4 -> 価値（価格）の過半が津島市内で生じていることに関する証明書
G6: ='様式7証明書(3号)'!$H$6 -> 商号又は名称 | H6: ='【記載例】様式8計算書(3号) (おまんじゅう)'!$L$6 -> ○○○○株式会社
B8: つしままんじゅうについては、津島市の区域内における工程により、当該返礼品等の価値の８５％が生じていることを証明します。 上記については、以下の算出方法（該当する算出方法に☑）により算出しています。
C12: ='様式7証明書(3号)'!D12 -> 総務大臣が定める標準的な算出方法
C13: ='様式7証明書(3号)'!D13 -> ※標準的な算出方法における算出基礎は以下のとおり。
C14: ='様式7証明書(3号)'!D14 -> Ａ： | D14: ='様式7証明書(3号)'!E14 -> 当該地方団体による返礼品等の調達費用 | H14: ='【記載例】様式8計算書(3号) (おまんじゅう)'!$E$12 -> 1000
C15: ='様式7証明書(3号)'!D15 -> Ｂ： | D15: ='様式7証明書(3号)'!E15 -> 当該返礼品等の製造・販売等のために当該地方団体の区域外で生じた費用
H16: ='【記載例】様式8計算書(3号) (おまんじゅう)'!$E$12-'【記載例】様式8計算書(3号) (おまんじゅう)'!$I$13 -> 150
C18: ='様式7証明書(3号)'!D18 -> その他の算出方法
C19: ='様式7証明書(3号)'!D19 -> ※その他の算出方法とする理由及びその算出方法の詳細は以下のとおり。
B26: また、当該返礼品等の製造・加工地 ※１ は愛知県津島市であり、一般販売価格は １，０００円です。※２ | I26: ↓入力欄 | J26: （地方団体名又は国名）
I27: 愛知県津島市 | J27: 例：○○県○○市、××国
B29: ='様式7証明書(3号)'!C29 -> なお、当該返礼品等を取り扱うに当たって、下記の事項に同意します。
B30: ='様式7証明書(3号)'!C30 -> ・ | C30: ='様式7証明書(3号)'!D30 -> 当該返礼品等については、地場産品基準（平成 31 年総務省告示第 179 号第５条）第８号イ～ハの返礼品等として提出先以外の都道府県又は市区町村が取り扱う場合を除き、本証明書の提出先以外の都道府県又は市区町村の第３号の返礼品等として取り扱わないこと。 | D30: ='様式7証明書(3号)'!E30 -> 0 | E30: ='様式7証明書(3号)'!F30 -> 0 | F30: ='様式7証明書(3号)'!G30 -> 0 | G30: ='様式7証明書(3号)'!H30 -> 0 | H30: ='様式7証明書(3号)'!I30 -> 0
C31: ='様式7証明書(3号)'!D31 -> 0 | D31: ='様式7証明書(3号)'!E31 -> 0 | E31: ='様式7証明書(3号)'!F31 -> 0 | F31: ='様式7証明書(3号)'!G31 -> 0 | G31: ='様式7証明書(3号)'!H31 -> 0 | H31: ='様式7証明書(3号)'!I31 -> 0
C32: ='様式7証明書(3号)'!D32 -> 0 | D32: ='様式7証明書(3号)'!E32 -> 0 | E32: ='様式7証明書(3号)'!F32 -> 0 | F32: ='様式7証明書(3号)'!G32 -> 0 | G32: ='様式7証明書(3号)'!H32 -> 0 | H32: ='様式7証明書(3号)'!I32 -> 0
B33: ='様式7証明書(3号)'!C33 -> ・ | C33: ='様式7証明書(3号)'!D33 -> 当該返礼品等の付加価値の算出方法等について、地方団体の求めに応じ、必要な説明や資料提供等を行うこと。 | D33: ='様式7証明書(3号)'!E33 -> 0 | E33: ='様式7証明書(3号)'!F33 -> 0 | F33: ='様式7証明書(3号)'!G33 -> 0 | G33: ='様式7証明書(3号)'!H33 -> 0 | H33: ='様式7証明書(3号)'!I33 -> 0
C34: ='様式7証明書(3号)'!D34 -> 0 | D34: ='様式7証明書(3号)'!E34 -> 0 | E34: ='様式7証明書(3号)'!F34 -> 0 | F34: ='様式7証明書(3号)'!G34 -> 0 | G34: ='様式7証明書(3号)'!H34 -> 0 | H34: ='様式7証明書(3号)'!I34 -> 0
B35: ='様式7証明書(3号)'!C35 -> 記載要領 | C35: ='様式7証明書(3号)'!D35 -> 0
B36: ='様式7証明書(3号)'!C36 -> ※１ | C36: ='様式7証明書(3号)'!D36 -> 返礼品等の製造・加工が行われた場所について、国内の場合は都道府県名及び市区町村名（例：○○県○○市）、国外の場合は国名を記載すること。 | D36: ='様式7証明書(3号)'!E36 -> 0 | E36: ='様式7証明書(3号)'!F36 -> 0 | F36: ='様式7証明書(3号)'!G36 -> 0 | G36: ='様式7証明書(3号)'!H36 -> 0 | H36: ='様式7証明書(3号)'!I36 -> 0
C37: ='様式7証明書(3号)'!D37 -> 0 | D37: ='様式7証明書(3号)'!E37 -> 0 | E37: ='様式7証明書(3号)'!F37 -> 0 | F37: ='様式7証明書(3号)'!G37 -> 0 | G37: ='様式7証明書(3号)'!H37 -> 0 | H37: ='様式7証明書(3号)'!I37 -> 0
B38: ='様式7証明書(3号)'!C38 -> ※２ | C38: ='様式7証明書(3号)'!D38 -> 当該返礼品等を一般消費者に対して販売する際の通常の価格を記載すること。なお、当該返礼品等が非売品である場合には、当該返礼品等の類似製品に係る通常の価格を記載すること。 | D38: ='様式7証明書(3号)'!E38 -> 0 | E38: ='様式7証明書(3号)'!F38 -> 0 | F38: ='様式7証明書(3号)'!G38 -> 0 | G38: ='様式7証明書(3号)'!H38 -> 0 | H38: ='様式7証明書(3号)'!I38 -> 0
C39: ='様式7証明書(3号)'!D39 -> 0 | D39: ='様式7証明書(3号)'!E39 -> 0 | E39: ='様式7証明書(3号)'!F39 -> 0 | F39: ='様式7証明書(3号)'!G39 -> 0 | G39: ='様式7証明書(3号)'!H39 -> 0 | H39: ='様式7証明書(3号)'!I39 -> 0
C40: ='様式7証明書(3号)'!D40 -> 0 | D40: ='様式7証明書(3号)'!E40 -> 0 | E40: ='様式7証明書(3号)'!F40 -> 0 | F40: ='様式7証明書(3号)'!G40 -> 0 | G40: ='様式7証明書(3号)'!H40 -> 0 | H40: ='様式7証明書(3号)'!I40 -> 0

Sheet 【記載例】様式8計算書(3号) (おまんじゅう)
B1: 様式８ | M1: 令和 年 月 日
D2: 価値（価格）の過半が津島市内で生じていることに関する計算書（地場産品基準３号）
C3: （宛先）津島市長
J4: （提出者）
J5: 所在地 | L5: 津島市○○町○-○-○
J6: 商号又は名称 | L6: ○○○○株式会社
J7: 代表者（役職・氏名） | L7: 代表取締役社長 津島 太郎
C9: 商品名 | E9: つしままんじゅう | I9: 製品の価値（価格）の過半が津島市内で生じています。
C10: 担当者名 | E10: 〇〇 〇〇 | I10: ウェブサイトでの公表に同意します。
C11: 連絡先 | E11: 〇〇-〇〇-〇〇 | I11: 津島市内における付加価値 | K11: 一般販売価格(税抜)
C12: 商品価格（税抜） | E12: 1000 | G12: 円 | I12: 価格(税抜) | J12: 割合
C13: 商品価格（税込） | E13: =IF($E$12="","",$E$12*1.1) -> 1100 | G13: 円 | I13: =J19+J21+J23+J25 -> 850 | J13: =IFERROR((J19+J21+J23+J25)/E12,"") -> 0.85 | K13: 1000
C16: 製造工程 | E16: 津島市内外 | F16: 内容 | H16: 製造地・加工場所 | J16: 付加価値 | L16: 備考
J18: 工程から生じる 付加価値(価格) (税抜) | K18: 割合
B19: ① | C19: 原材料 | E19: 市内 | F19: 小豆 | H19: 津島市〇〇町〇〇番地 | J19: 150 | K19: =IFERROR(IF(OR(J19="",J19=0),"％",J19/$E$12),0) -> 0.15
E20: 市外 | F20: 小麦粉、砂糖 | H20: 小麦粉はアメリカ産、砂糖は沖縄県〇〇市 | J20: 50 | K20: =IFERROR(IF(OR(J20="",J20=0),"％",J20/$E$12),0) -> 0.05
B21: ② | C21: 製造・加工 | E21: 市内 | F21: 生地の生成、成形、蒸し上げ | H21: 本社（津島市〇〇町〇〇番地） | J21: 300 | K21: =IFERROR(IF(OR(J21="",J21=0),"％",J21/$E$12),0) -> 0.3
E22: 市外 | F22: あんの作成 | H22: 〇〇県〇〇市 | J22: 100 | K22: =IFERROR(IF(OR(J22="",J22=0),"％",J22/$E$12),0) -> 0.1
B23: ③ | C23: 包装 | E23: 市内 | F23: 個包装 | H23: 本社（津島市〇〇町〇〇番地） | J23: 200 | K23: =IFERROR(IF(OR(J23="",J23=0),"％",J23/$E$12),0) -> 0.2
E24: 市外 | K24: =IFERROR(IF(OR(J24="",J24=0),"％",J24/$E$12),0) -> ％
B25: ④ | C25: 検品・梱包 | E25: 市内 | F25: 検品、箱詰め | H25: 本社（津島市〇〇町〇〇番地） | J25: 200 | K25: =IFERROR(IF(OR(J25="",J25=0),"％",J25/$E$12),0) -> 0.2
E26: 市外 | K26: =IFERROR(IF(OR(J26="",J26=0),"％",J26/$E$12),0) -> ％
H27: 合計 | J27: =IF(SUM(J19:J26)=0,"円",SUM(J19:J26)) -> 1000 | K27: =IF($E$12="","％",SUM(K19:K26)) -> 1
